BEGIN:VCALENDAR
VERSION:2.0
PRODID:-//AJCAM - ECPv6.7.0//NONSGML v1.0//EN
CALSCALE:GREGORIAN
METHOD:PUBLISH
X-ORIGINAL-URL:http://ajcam.projet-maquette.fr
X-WR-CALDESC:Évènements pour AJCAM
REFRESH-INTERVAL;VALUE=DURATION:PT1H
X-Robots-Tag:noindex
X-PUBLISHED-TTL:PT1H
BEGIN:VTIMEZONE
TZID:Europe/Paris
BEGIN:DAYLIGHT
TZOFFSETFROM:+0100
TZOFFSETTO:+0200
TZNAME:CEST
DTSTART:20250330T010000
END:DAYLIGHT
BEGIN:STANDARD
TZOFFSETFROM:+0200
TZOFFSETTO:+0100
TZNAME:CET
DTSTART:20251026T010000
END:STANDARD
END:VTIMEZONE
BEGIN:VEVENT
DTSTART;TZID=Europe/Paris:20250121T080000
DTEND;TZID=Europe/Paris:20250121T180000
DTSTAMP:20260422T112821
CREATED:20240723T123303Z
LAST-MODIFIED:20240813T092413Z
UID:38588-1737446400-1737482400@ajcam.projet-maquette.fr
SUMMARY:Visite site Forbo Flooring\, nouveau showroom et nouvelle collection
DESCRIPTION:
URL:http://ajcam.projet-maquette.fr/evenement/visite-site-forbo-flooring-nouveau-showroom-et-nouvelle-collection-2/
LOCATION:Reims\, France
CATEGORIES:Voyage de presse
END:VEVENT
BEGIN:VEVENT
DTSTART;TZID=Europe/Paris:20250123T080000
DTEND;TZID=Europe/Paris:20250123T180000
DTSTAMP:20260422T112821
CREATED:20240723T123432Z
LAST-MODIFIED:20240813T092214Z
UID:38589-1737619200-1737655200@ajcam.projet-maquette.fr
SUMMARY:Visite site Forbo Flooring\, nouveau showroom et nouvelle collection
DESCRIPTION:
URL:http://ajcam.projet-maquette.fr/evenement/visite-site-forbo-flooring-nouveau-showroom-et-nouvelle-collection/
LOCATION:Reims\, France
CATEGORIES:Voyage de presse
END:VEVENT
END:VCALENDAR