BEGIN:VCALENDAR
VERSION:2.0
PRODID:-//AJCAM - ECPv6.7.0//NONSGML v1.0//EN
CALSCALE:GREGORIAN
METHOD:PUBLISH
X-WR-CALNAME:AJCAM
X-ORIGINAL-URL:http://ajcam.projet-maquette.fr
X-WR-CALDESC:Évènements pour AJCAM
REFRESH-INTERVAL;VALUE=DURATION:PT1H
X-Robots-Tag:noindex
X-PUBLISHED-TTL:PT1H
BEGIN:VTIMEZONE
TZID:Europe/Paris
BEGIN:DAYLIGHT
TZOFFSETFROM:+0100
TZOFFSETTO:+0200
TZNAME:CEST
DTSTART:20240331T010000
END:DAYLIGHT
BEGIN:STANDARD
TZOFFSETFROM:+0200
TZOFFSETTO:+0100
TZNAME:CET
DTSTART:20241027T010000
END:STANDARD
END:VTIMEZONE
BEGIN:VEVENT
DTSTART;TZID=Europe/Paris:20241106T080000
DTEND;TZID=Europe/Paris:20241107T180000
DTSTAMP:20260424T121052
CREATED:20240604T090145Z
LAST-MODIFIED:20240604T101307Z
UID:37951-1730880000-1731002400@ajcam.projet-maquette.fr
SUMMARY:Voyage de presse Poujoulat Niort
DESCRIPTION:Céline GAY \n07 61 46 57 31 – celine@fpa.fr
URL:http://ajcam.projet-maquette.fr/evenement/voyage-de-presse-poujoulat-niort/
LOCATION:Niort\, Niort\, France
CATEGORIES:Voyage de presse
END:VEVENT
BEGIN:VEVENT
DTSTART;TZID=Europe/Paris:20241113T000000
DTEND;TZID=Europe/Paris:20241114T000000
DTSTAMP:20260424T121052
CREATED:20240604T124630Z
LAST-MODIFIED:20240604T140954Z
UID:38041-1731456000-1731542400@ajcam.projet-maquette.fr
SUMMARY:Groupe INSTALLUX voyage de presse visite d'usine
DESCRIPTION:
URL:http://ajcam.projet-maquette.fr/evenement/groupe-installux-voyage-de-presse-visite-dusine/
LOCATION:Barcelone\, Barcelone\, Espagne
CATEGORIES:Voyage de presse
END:VEVENT
BEGIN:VEVENT
DTSTART;VALUE=DATE:20241128
DTEND;VALUE=DATE:20241129
DTSTAMP:20260424T121052
CREATED:20240604T090145Z
LAST-MODIFIED:20240604T101952Z
UID:37949-1732752000-1732838399@ajcam.projet-maquette.fr
SUMMARY:VOYAGE DE PRESSE SFPR
DESCRIPTION:
URL:http://ajcam.projet-maquette.fr/evenement/voyage-de-presse-sfpr-2/
CATEGORIES:Voyage de presse
END:VEVENT
END:VCALENDAR